BEGIN:VCALENDAR
VERSION:2.0
PRODID:-//Green Hat Web Solutions - ECPv6.15.18//NONSGML v1.0//EN
CALSCALE:GREGORIAN
METHOD:PUBLISH
X-WR-CALNAME:Green Hat Web Solutions
X-ORIGINAL-URL:https://www.greenhatwebs.com
X-WR-CALDESC:Events for Green Hat Web Solutions
REFRESH-INTERVAL;VALUE=DURATION:PT1H
X-Robots-Tag:noindex
X-PUBLISHED-TTL:PT1H
BEGIN:VTIMEZONE
TZID:America/Denver
BEGIN:DAYLIGHT
TZOFFSETFROM:-0700
TZOFFSETTO:-0600
TZNAME:MDT
DTSTART:20230312T090000
END:DAYLIGHT
BEGIN:STANDARD
TZOFFSETFROM:-0600
TZOFFSETTO:-0700
TZNAME:MST
DTSTART:20231105T080000
END:STANDARD
BEGIN:DAYLIGHT
TZOFFSETFROM:-0700
TZOFFSETTO:-0600
TZNAME:MDT
DTSTART:20240310T090000
END:DAYLIGHT
BEGIN:STANDARD
TZOFFSETFROM:-0600
TZOFFSETTO:-0700
TZNAME:MST
DTSTART:20241103T080000
END:STANDARD
BEGIN:DAYLIGHT
TZOFFSETFROM:-0700
TZOFFSETTO:-0600
TZNAME:MDT
DTSTART:20250309T090000
END:DAYLIGHT
BEGIN:STANDARD
TZOFFSETFROM:-0600
TZOFFSETTO:-0700
TZNAME:MST
DTSTART:20251102T080000
END:STANDARD
BEGIN:DAYLIGHT
TZOFFSETFROM:-0700
TZOFFSETTO:-0600
TZNAME:MDT
DTSTART:20260308T090000
END:DAYLIGHT
BEGIN:STANDARD
TZOFFSETFROM:-0600
TZOFFSETTO:-0700
TZNAME:MST
DTSTART:20261101T080000
END:STANDARD
END:VTIMEZONE
BEGIN:VEVENT
DTSTART;TZID=America/Denver:20250626T120000
DTEND;TZID=America/Denver:20250626T130000
DTSTAMP:20260422T062656
CREATED:20250618T181622Z
LAST-MODIFIED:20250618T182405Z
UID:8201-1750939200-1750942800@www.greenhatwebs.com
SUMMARY:Review of AI Website Builders
DESCRIPTION:Join Ryan Masterson\, co-founder of Green Hat Web Solutions\, for a free\, small-group session exploring the latest AI tools for building websites—no sales pitches\, no affiliations\, just real talk and shared learning. We’ll take a hands-on look at popular platforms like WordPress\, Lovable\, Wix\, Hostinger\, TeleportHQ\, Durable\, Framer\, Replit\, and Cursor\, reviewing their capabilities\, limitations\, and how they might fit into your workflow—or not. \nWhether you’re a developer\, designer\, entrepreneur\, or just AI-curious\, this is a chance to get an honest overview of these tools and join a broader conversation about the future of web development in the age of AI. \nThis is not a product demo or marketing event.\nIt’s a collaborative space to explore what’s out there\, ask questions\, and share insights. \n🧠 What to Expect: \n\nLive reviews and walkthroughs of each tool\nOpen Q&A and discussion\nTips on how to experiment with these tools yourself\nA relaxed\, engaging environment with a cap of just 13 participants to keep the conversation focused and valuable\n\nCost: Free\nSpace is limited to 13 attendees. Reserve your spot early! \nHow to Find Us: Enter the building called Dominion Towers at 600 17th Street\, and walk to the SOUTH elevators (not north). Go up to the 28th floor. We will be in the conference room right in front of the elevators. Parking is available on the street or in nearby parking garages
URL:https://www.greenhatwebs.com/event/review-of-ai-website-builders/
LOCATION:Dominion Towers\, 600 17th St\, Denver\, CO\, 80202\, United States
ATTACH;FMTTYPE=image/png:https://www.greenhatwebs.com/wp-content/uploads/2025/06/meetup-2025-06-ai-website-builders.png
END:VEVENT
BEGIN:VEVENT
DTSTART;TZID=America/Denver:20240503T130000
DTEND;TZID=America/Denver:20240503T140000
DTSTAMP:20260422T062656
CREATED:20240410T200518Z
LAST-MODIFIED:20240410T201400Z
UID:7172-1714741200-1714744800@www.greenhatwebs.com
SUMMARY:Introduction to Google Analytics
DESCRIPTION:Event Summary:\nEmbark on a journey into the world of web analytics with our introductory lecture\, “Introduction to Google Analytics.” In this session\, you’ll learn the basics of setting up and navigating Google Analytics\, empowering you to unlock valuable insights about your website’s performance. \nJoin us as we explore key features and functionalities of Google Analytics\, including tracking website traffic\, analyzing user behavior\, and measuring the effectiveness of marketing campaigns. Whether you’re a business owner\, marketer\, or website administrator\, this lecture offers essential knowledge to make informed decisions and optimize your online presence. \nDon’t miss this opportunity to harness the power of data and take control of your website’s performance. Reserve your spot now and embark on a journey toward mastering Google Analytics for business success. \n  \nHow to find us:\nThe entrance is located at the double doors on the far east side of the building. To get there\, go east on 48th Avenue\, past the loading docks\, and make a left through the gates in the fence. Drive down the parking lot until you see garage door “11” on your left. Staff will assist you. \nLink to Parking Instructions
URL:https://www.greenhatwebs.com/event/introduction-to-google-analytics/
LOCATION:Saltbox | Warehousing & Logistics for Ecommerce in Park Hill 4800 Dahlia St · Denver\, CO\, 4800 Dahlia St\, Denver\, CO
END:VEVENT
BEGIN:VEVENT
DTSTART;TZID=America/Denver:20240308T130000
DTEND;TZID=America/Denver:20240308T140000
DTSTAMP:20260422T062656
CREATED:20240301T235329Z
LAST-MODIFIED:20240305T165735Z
UID:7093-1709902800-1709906400@www.greenhatwebs.com
SUMMARY:Introduction to SEO
DESCRIPTION:Join us for an engaging workshop on the fundamentals of Search Engine Optimization (SEO). Whether you’re a business owner\, marketer\, or enthusiast looking to enhance your online presence\, this event is perfect for beginners eager to demystify the world of SEO. \nIn this session\, you’ll learn the basics of SEO\, including keyword research\, on-page optimization\, and local SEO strategies. Our experienced SEO expert will guide you through practical tips and best practices to improve your website’s visibility and drive organic traffic. \nDon’t miss this opportunity to kickstart your journey into the world of SEO and unlock the potential for your online success. Reserve your spot now and take the first step towards mastering the art of search engine optimization! \nGo into the correct entrance: Far NE corner. Don’t go into the entrance on SE corner. Look for door “11″. There is a QR code at the front door that you can scan to let us know you are here\, or you can text this number to be let in: \n(720) 616-9532. \nFree parking!
URL:https://www.greenhatwebs.com/event/introduction-to-seo/
LOCATION:Saltbox | Warehousing & Logistics for Ecommerce in Park Hill\, 4800 Dahlia St\, Denver\, CO
CATEGORIES:SEO
ATTACH;FMTTYPE=image/jpeg:https://www.greenhatwebs.com/wp-content/uploads/2024/03/Meetup-March-2024-min-1.jpg
END:VEVENT
END:VCALENDAR